BEGIN:VCALENDAR
VERSION:2.0
PRODID:-//chikkutakku.com//RDFCal 1.0//EN
X-WR-CALDESC:GoogleカレンダーやiCalendar形式情報を共有シェ
 アしましょう。近所のイベントから全国のイベントま
 で今日のイベント検索やスケジュールを決めるならち
 っくたっく
X-WR-CALNAME:ちっくたっく
X-WR-TIMEZONE:UTC
BEGIN:VEVENT
SUMMARY:海底宮殿ALMARE-アルマーレ-
DTSTART;VALUE=DATE-TIME:20260423T130000Z
DTEND;VALUE=DATE-TIME:20260423T140000Z
UID:519318734080
DESCRIPTION:【イベント主催者】\n　kihokamioka\n【イベント
 内容】\n　月に数度だけ現れるという、海底への扉の噂
 。 \n扉の先にあるのは、深海か、それとも—— . \n不定
 期22:00~23:00開催の1対1形式の接客イベントになります。 
 \n扉を開けた先の世界で海の住人たちとの素敵なひと時
 をお過ごしください。\n\n海洋・神話生物をモチーフと
 した海底の住人たちと宮殿のホールで1対1で接客を楽し
 めるイベントになります。\n\n事前に以下URLへフレンド
 申請をしていただき、当日22時になりましたリクインを
 お願いいたします。\nhttps://vrchat.com/home/user/usr_b8635531-160
 e-4144-9701-2e48a331e864\n【イベントジャンル】\n　店舗系イ
 ベント\n【参加条件（モデル、人数制限など）】\n　ア
 バター容量50MB以下\n【参加方法】\n　事前に以下URLへフ
 レンド申請をしていただき、当日22時になりましたリク
 インをお願いいたします。\nhttps://vrchat.com/home/user/usr_b86
 35531-160e-4144-9701-2e48a331e864\n【備考】\n　
LOCATION:
END:VEVENT
END:VCALENDAR
