BEGIN:VCALENDAR
VERSION:2.0
PRODID:-//chikkutakku.com//RDFCal 1.0//EN
X-WR-CALDESC:GoogleカレンダーやiCalendar形式情報を共有シェ
 アしましょう。近所のイベントから全国のイベントま
 で今日のイベント検索やスケジュールを決めるならち
 っくたっく
X-WR-CALNAME:ちっくたっく
X-WR-TIMEZONE:UTC
BEGIN:VEVENT
SUMMARY:【コラボ営業/個室接客/生演奏】Camellia×BarAzul
DTSTART;VALUE=DATE-TIME:20260421T130000Z
DTEND;VALUE=DATE-TIME:20260421T140000Z
UID:520611939765
DESCRIPTION:【イベント主催者】\n　mochi_もちちゃん\n【イ
 ベント内容】\n　完全個室接客イベント「Camellia」と魔
 法使いコンセプトバー「BarAzul」のコラボ営業です。\n
 ワールドはコラボ特別仕様！\n2:2での個室接客ローテの
 後、生演奏パフォーマンスと、アフターありです。是
 非お待ちしております\n【イベントジャンル】\n　VR飲
 み会\, 店舗系イベント\, 定期イベント\n【参加条件（モ
 デル、人数制限など）】\n　日本語話者\n【参加方法】\
 n　22時に、グループ「Camellia」へジョイン！\nhttps://vrc.g
 roup/CAMELL.8705\n【備考】\n　
LOCATION:
END:VEVENT
END:VCALENDAR
