BEGIN:VCALENDAR
VERSION:2.0
PRODID:-//chikkutakku.com//RDFCal 1.0//EN
X-WR-CALDESC:GoogleカレンダーやiCalendar形式情報を共有シェ
 アしましょう。近所のイベントから全国のイベントま
 で今日のイベント検索やスケジュールを決めるならち
 っくたっく
X-WR-CALNAME:ちっくたっく
X-WR-TIMEZONE:UTC
BEGIN:VEVENT
SUMMARY:乙女ゲームの転生モブ令嬢、原作改変で破滅予定
 の悪役令息を救います！2 〜私の推しメンは噛ませ犬〜
 （2）
DTSTART;VALUE=DATE:20260519
DTEND;VALUE=DATE:20260520
UID:524598210687
DESCRIPTION:2026-05-20乙女ゲームの転生モブ令嬢、原作改変
 で破滅予定の悪役令息を救います！2 〜私の推しメンは
 噛ませ犬〜（2）ナユタ/早瀬ジュンオーバーラップ
LOCATION:
END:VEVENT
END:VCALENDAR
