BEGIN:VCALENDAR
VERSION:2.0
PRODID:-//chikkutakku.com//RDFCal 1.0//EN
X-WR-CALDESC:GoogleカレンダーやiCalendar形式情報を共有シェ
 アしましょう。近所のイベントから全国のイベントま
 で今日のイベント検索やスケジュールを決めるならち
 っくたっく
X-WR-CALNAME:ちっくたっく
X-WR-TIMEZONE:UTC
BEGIN:VEVENT
SUMMARY:REQUIRED: CBL 3 Genetics: Cystic Fibrosis (IN-PERSON) (Group B)
DTSTART;VALUE=DATE-TIME:20260508T180000Z
DTEND;VALUE=DATE-TIME:20260508T200000Z
UID:531764271765
DESCRIPTION:REQUIRED: CBL 3 Genetics: Cystic Fibrosis (IN-PERSON) (Group B
 )
LOCATION:
END:VEVENT
END:VCALENDAR
