BEGIN:VCALENDAR
VERSION:2.0
PRODID:-//chikkutakku.com//RDFCal 1.0//EN
X-WR-CALDESC:GoogleカレンダーやiCalendar形式情報を共有シェ
 アしましょう。近所のイベントから全国のイベントま
 で今日のイベント検索やスケジュールを決めるならち
 っくたっく
X-WR-CALNAME:ちっくたっく
X-WR-TIMEZONE:UTC
BEGIN:VEVENT
SUMMARY:称光天皇誕生日(第101代天皇)
DTSTART;VALUE=DATE-TIME:20260511T150000Z
DTEND;VALUE=DATE-TIME:20260512T150000Z
UID:532333583773
DESCRIPTION:1401年5月12日
LOCATION:
END:VEVENT
END:VCALENDAR
