BEGIN:VCALENDAR
VERSION:2.0
PRODID:-//chikkutakku.com//RDFCal 1.0//EN
X-WR-CALDESC:GoogleカレンダーやiCalendar形式情報を共有シェ
 アしましょう。近所のイベントから全国のイベントま
 で今日のイベント検索やスケジュールを決めるならち
 っくたっく
X-WR-CALNAME:ちっくたっく
X-WR-TIMEZONE:UTC
BEGIN:VEVENT
SUMMARY:REQUIRED: Synergize 5 Pharmacology (IN-PERSON)
DTSTART;VALUE=DATE-TIME:20260505T170000Z
DTEND;VALUE=DATE-TIME:20260505T183000Z
UID:534708296336
DESCRIPTION:REQUIRED: Synergize 5 Pharmacology (IN-PERSON)
LOCATION:
END:VEVENT
END:VCALENDAR
