BEGIN:VCALENDAR
VERSION:2.0
PRODID:-//chikkutakku.com//RDFCal 1.0//EN
X-WR-CALDESC:GoogleカレンダーやiCalendar形式情報を共有シェ
 アしましょう。近所のイベントから全国のイベントま
 で今日のイベント検索やスケジュールを決めるならち
 っくたっく
X-WR-CALNAME:ちっくたっく
X-WR-TIMEZONE:UTC
BEGIN:VEVENT
SUMMARY:Ride of Silence
DTSTART;VALUE=DATE-TIME:20260520T224500Z
DTEND;VALUE=DATE-TIME:20260521T004500Z
UID:536367234046
DESCRIPTION:Ride Leader:  Scott LaufferRide Start Time:  7 pmStarting Lo
 cation:  MacArthur ParkGoogle Map Link to the park:  https://maps.app.g
 oo.gl/QWam17LGHV81ajUx5Ride with GPS Link: Binghamton / McArthur Park - 2
 025 Ride of Silence · Ride with GPSJoin cyclists worldwide on May 20 who 
 will take to the roads in a silent procession to honor cyclists who were
  killed or injured while cycling on public roadways. The ride of silen
 ce will start at MacArthur Park in Binghamton (next to MacArthur School) 
 at the Two Rivers Greenway to Binghamton University and back\, total about
  8 miles. The pace will be about 12 mph.  Meet at the parking area by th
 e tennis courts\, note that there are one-way entrance and exit  to the p
 ark/school from Vestal Avenue. Enter at the western connector\, not the on
 e with the light. We will have a short ceremony promptly at 7:00 and star
 t riding right after that. Please be gathered with the group then. In t
 he event of rain\, the ride will be cancelled.  Hoping the weather turn
 s out ok. Cancellation will be posted by 5:00.
LOCATION:
END:VEVENT
END:VCALENDAR
