BEGIN:VCALENDAR
VERSION:2.0
PRODID:-//chikkutakku.com//RDFCal 1.0//EN
X-WR-CALDESC:GoogleカレンダーやiCalendar形式情報を共有シェ
 アしましょう。近所のイベントから全国のイベントま
 で今日のイベント検索やスケジュールを決めるならち
 っくたっく
X-WR-CALNAME:ちっくたっく
X-WR-TIMEZONE:UTC
BEGIN:VEVENT
SUMMARY:Joblink Plus First Nations Art Competition | L Guilbert
DTSTART;VALUE=DATE-TIME:20260506T031500Z
DTEND;VALUE=DATE-TIME:20260506T050000Z
UID:539089833222
DESCRIPTION:Joblink Plus First Nations Art Competition | L Guilbert
LOCATION:
END:VEVENT
END:VCALENDAR
