BEGIN:VCALENDAR
VERSION:2.0
PRODID:-//chikkutakku.com//RDFCal 1.0//EN
X-WR-CALDESC:GoogleカレンダーやiCalendar形式情報を共有シェ
 アしましょう。近所のイベントから全国のイベントま
 で今日のイベント検索やスケジュールを決めるならち
 っくたっく
X-WR-CALNAME:ちっくたっく
X-WR-TIMEZONE:UTC
BEGIN:VEVENT
SUMMARY:Mr. Evine式 中学英文法から始める TOEIC L&R TEST 入門
 ドリル（1）
DTSTART;VALUE=DATE:20260520
DTEND;VALUE=DATE:20260521
UID:539958825098
DESCRIPTION:2026-05-21Mr. Evine式 中学英文法から始める TOEIC L&
 R TEST 入門ドリル（1）EvineKADOKAWA
LOCATION:
END:VEVENT
END:VCALENDAR
