BEGIN:VCALENDAR
VERSION:2.0
PRODID:-//chikkutakku.com//RDFCal 1.0//EN
X-WR-CALDESC:GoogleカレンダーやiCalendar形式情報を共有シェ
 アしましょう。近所のイベントから全国のイベントま
 で今日のイベント検索やスケジュールを決めるならち
 っくたっく
X-WR-CALNAME:ちっくたっく
X-WR-TIMEZONE:UTC
BEGIN:VEVENT
SUMMARY:【BoysBarConceptEvent】Bedlam
DTSTART;VALUE=DATE-TIME:20260422T134500Z
DTEND;VALUE=DATE-TIME:20260422T144500Z
UID:540539745178
DESCRIPTION:【イベント主催者】\n　Bedlam\n【イベント内容
 】\n　毎週水曜の2２:45分～23時45分にOPEN\n当店ではゲス
 ト4名に対してキャスト２名（交代有）の空間で時間を
 お過ごしいただ\nけます\n詳細に関しては告知用のX（旧
 Twitter）とグループの投稿をご確認ください\n【イベン
 トジャンル】\n　店舗系イベント\, 定期イベント\n【参
 加条件（モデル、人数制限など）】\n　特段御座いませ
 んができる限り軽いアバター（50MB以下）でのご入店を
 推奨しております\n【参加方法】\n　グループへ申請後
 、グループインスタンスへのJoinをお願いしております
 。\nグループリンク:https://vrc.group/LEBED.9732\n【備考】\n　
 https://x.com/Bedlam73101 
LOCATION:
END:VEVENT
END:VCALENDAR
