BEGIN:VCALENDAR
VERSION:2.0
PRODID:-//chikkutakku.com//RDFCal 1.0//EN
X-WR-CALDESC:GoogleカレンダーやiCalendar形式情報を共有シェ
 アしましょう。近所のイベントから全国のイベントま
 で今日のイベント検索やスケジュールを決めるならち
 っくたっく
X-WR-CALNAME:ちっくたっく
X-WR-TIMEZONE:UTC
BEGIN:VEVENT
SUMMARY:UWC Talk to Grade 12s
DTSTART;VALUE=DATE-TIME:20260521T121500Z
DTEND;VALUE=DATE-TIME:20260521T130000Z
UID:542862854500
DESCRIPTION:UWC Talk to Grade 12s
LOCATION:Hofmeyr Hall\, Main Hall
END:VEVENT
END:VCALENDAR
