BEGIN:VCALENDAR
VERSION:2.0
PRODID:-//chikkutakku.com//RDFCal 1.0//EN
X-WR-CALDESC:GoogleカレンダーやiCalendar形式情報を共有シェ
 アしましょう。近所のイベントから全国のイベントま
 で今日のイベント検索やスケジュールを決めるならち
 っくたっく
X-WR-CALNAME:ちっくたっく
X-WR-TIMEZONE:UTC
BEGIN:VEVENT
SUMMARY:蜜楽ハーレムハウス＜新装版＞
DTSTART;VALUE=DATE:20260517
DTEND;VALUE=DATE:20260518
UID:543275428068
DESCRIPTION:2026-05-18蜜楽ハーレムハウス＜新装版＞霧原 一
 輝竹書房
LOCATION:
END:VEVENT
END:VCALENDAR
