BEGIN:VCALENDAR
VERSION:2.0
PRODID:-//chikkutakku.com//RDFCal 1.0//EN
X-WR-CALDESC:GoogleカレンダーやiCalendar形式情報を共有シェ
 アしましょう。近所のイベントから全国のイベントま
 で今日のイベント検索やスケジュールを決めるならち
 っくたっく
X-WR-CALNAME:ちっくたっく
X-WR-TIMEZONE:UTC
BEGIN:VEVENT
SUMMARY:5/11-12 應屆畢業生上網查詢第 6學期修課 5/15 紀錄(0
 900-2100)
DTSTART;VALUE=DATE:20260510
DTEND;VALUE=DATE:20260512
UID:545549354400
DESCRIPTION:5/11-12 應屆畢業生上網查詢第 6學期修課 5/15 紀
 錄(0900-2100)
LOCATION:
END:VEVENT
END:VCALENDAR
