BEGIN:VCALENDAR
VERSION:2.0
PRODID:-//chikkutakku.com//RDFCal 1.0//EN
X-WR-CALDESC:GoogleカレンダーやiCalendar形式情報を共有シェ
 アしましょう。近所のイベントから全国のイベントま
 で今日のイベント検索やスケジュールを決めるならち
 っくたっく
X-WR-CALNAME:ちっくたっく
X-WR-TIMEZONE:UTC
BEGIN:VEVENT
SUMMARY:【注】犬夜叉 #1 時代を越えた少女と封印された
 少年 / #2 四魂の玉を狙う者たち / #3 骨喰いの井戸から
 ただいまっ！ / #4 逆髪の妖魔 結羅 / #5 戦慄の貴公子 殺
 生丸 / #6 不気味な妖刀 鉄砕牙 / #7 激対決！殺生丸VS鉄
 砕牙!! / #8 殿様妖怪 九十九の蝦蟇
DTSTART;VALUE=DATE-TIME:20260424T220000Z
DTEND;VALUE=DATE-TIME:20260425T020000Z
UID:545551824820
DESCRIPTION: / #1 時代を越えた少女と封印された少年 / #2 
 四魂の玉を狙う者たち / #3 骨喰いの井戸からただいま
 っ！ / #4 逆髪の妖魔 結羅 / #5 戦慄の貴公子 殺生丸 / #6 
 不気味な妖刀 鉄砕牙 / #7 激対決！殺生丸VS鉄砕牙!! / #8 
 殿様妖怪 九十九の蝦蟇 / ([[ファミリーアニメ2 https://abe
 ma.tv/timetable/channels/family-anime-2]]) https://abema.tv/channels/famil
 y-anime-2/slots/Ah77n1zNP8bgFR リピート放送は 16:00～ https://abem
 a.tv/channels/family-anime-2/slots/AkN7WQWfBXu3VZ (無料TS1週間)
LOCATION:ABEMA特設その他
END:VEVENT
END:VCALENDAR
