BEGIN:VCALENDAR
VERSION:2.0
PRODID:-//chikkutakku.com//RDFCal 1.0//EN
X-WR-CALDESC:GoogleカレンダーやiCalendar形式情報を共有シェ
 アしましょう。近所のイベントから全国のイベントま
 で今日のイベント検索やスケジュールを決めるならち
 っくたっく
X-WR-CALNAME:ちっくたっく
X-WR-TIMEZONE:UTC
BEGIN:VEVENT
SUMMARY:LinQ【東京】LinQ定期公演 「東京に、会いにいくよ
 。」
DTSTART;VALUE=DATE:20260515
DTEND;VALUE=DATE:20260516
UID:545971603461
DESCRIPTION:【東京】LinQ定期公演 「東京に、会いにいくよ
 。」【時間】開場11:30 / 開演12:00  【会場】Spotify O-Crest
  【詳細】https://www.loveinq.com/176527.html
LOCATION:Spotify O-Crest\, 日本、〒150-0043 東京都渋谷区道玄
 坂２丁目１４−８ 5f
END:VEVENT
END:VCALENDAR
