BEGIN:VCALENDAR
VERSION:2.0
PRODID:-//chikkutakku.com//RDFCal 1.0//EN
X-WR-CALDESC:GoogleカレンダーやiCalendar形式情報を共有シェ
 アしましょう。近所のイベントから全国のイベントま
 で今日のイベント検索やスケジュールを決めるならち
 っくたっく
X-WR-CALNAME:ちっくたっく
X-WR-TIMEZONE:UTC
BEGIN:VEVENT
SUMMARY:✦  𝔊𝔦𝔢𝔯 𝔉𝔞𝔩𝔩𝔢𝔫 ( ギル ファレ
 ン )  ✦
DTSTART;VALUE=DATE-TIME:20260423T130000Z
DTEND;VALUE=DATE-TIME:20260423T143000Z
UID:546849106002
DESCRIPTION:【イベント主催者】\n　【傀儡 ろむ】 (X:@rornzz
 )\n【イベント内容】\n　【毎週木曜22:00~ john制】\n’’
 七つの大罪’’ をテーマにしたRPなしのフリーローテ
 ーション式2:2のコンセプトカフェとなっております\n【
 イベントジャンル】\n　店舗系イベント\, 定期イベント
 \n【参加条件（モデル、人数制限など）】\n　1.キャス
 トまたは他のお客様への配慮ができる方\n2.他イベント
 様とリクインなど被せてのご参加はお辞め下さい。\n3.
 可能な限り容量が軽めのアバターでよろしくお願いし
 ます。\n【参加方法】\n　インスタンスリーダーにフレ
 ンド申請。 \n22時になりましたらインスタンスリーダー
 にJoin。 \n詳しくは公式Xをご覧ください。\n【@GierFallen_V
 RC】\n【備考】\n　
LOCATION:
END:VEVENT
END:VCALENDAR
