BEGIN:VCALENDAR
VERSION:2.0
PRODID:-//chikkutakku.com//RDFCal 1.0//EN
X-WR-CALDESC:GoogleカレンダーやiCalendar形式情報を共有シェ
 アしましょう。近所のイベントから全国のイベントま
 で今日のイベント検索やスケジュールを決めるならち
 っくたっく
X-WR-CALNAME:ちっくたっく
X-WR-TIMEZONE:UTC
BEGIN:VEVENT
SUMMARY:VRC初心者の待合所
DTSTART;VALUE=DATE-TIME:20260421T120000Z
DTEND;VALUE=DATE-TIME:20260421T130000Z
UID:550035536131
DESCRIPTION:【イベント主催者】\n　ライル／Ryle\n【イベン
 ト内容】\n　最近VRChatを始めたVisitor\,NewUser(及びUserなっ
 て2週間以内)の方同士でお話する場･機会としていかが
 でしょうか？23時から1時間ほどワールド巡りもします
 が、そちらはトラストレベルに関わらず誰でも何回で
 も参加可能としてますので、比較的VRChatに慣れた方も
 初心者さんとの交流目的にぜひお越しください。\n【イ
 ベントジャンル】\n　その他交流会\, 初心者向けイベン
 ト\, 定期イベント\n【参加条件（モデル、人数制限など
 ）】\n　Visitor\,NewUserの方（及びUserなって大体2週間以内
 の方）。23時以降のワールド巡りは誰でもどうぞ。\n【
 参加方法】\n　Group「VRC初心者の待合所」（VRCNEW.8201）
 に加入し、時間になったらインスタンスへ参加！\n【備
 考】\n　x.com/Wisternear/status/2040356705943564739
LOCATION:
END:VEVENT
END:VCALENDAR
