BEGIN:VCALENDAR
VERSION:2.0
PRODID:-//chikkutakku.com//RDFCal 1.0//EN
X-WR-CALDESC:GoogleカレンダーやiCalendar形式情報を共有シェ
 アしましょう。近所のイベントから全国のイベントま
 で今日のイベント検索やスケジュールを決めるならち
 っくたっく
X-WR-CALNAME:ちっくたっく
X-WR-TIMEZONE:UTC
BEGIN:VEVENT
SUMMARY:ประชุมร่วมหารือแนวทางก
 ารบริหารงบประมาณศ.พันธกิจ
 สากล
DTSTART;VALUE=DATE-TIME:20260422T083000Z
DTEND;VALUE=DATE-TIME:20260422T093000Z
UID:550134632511
DESCRIPTION:นัดหมายอาจารย์ชรินทร
 ์\nผอ.สำนักตรวจสอบภายใน\nผอ.
 ศูนย์บริหารพันธกิจสากล\nผอ
 .บุญรัตน์ กองแผนงาน\nผช. เอษ
 ณา 
LOCATION:ห้องประชุมกองแผนงาน ชั
 ้น 4 อาคารสำนักงานมหาวิทยา
 ลัย 2
END:VEVENT
END:VCALENDAR
