BEGIN:VCALENDAR
VERSION:2.0
PRODID:-//chikkutakku.com//RDFCal 1.0//EN
X-WR-CALDESC:GoogleカレンダーやiCalendar形式情報を共有シェ
 アしましょう。近所のイベントから全国のイベントま
 で今日のイベント検索やスケジュールを決めるならち
 っくたっく
X-WR-CALNAME:ちっくたっく
X-WR-TIMEZONE:UTC
BEGIN:VEVENT
SUMMARY:TVアニメ『透明男と人間女〜そのうち夫婦になる
 ふたり〜』 上巻【Blu-ray】
DTSTART;VALUE=DATE:20260512
DTEND;VALUE=DATE:20260513
UID:554217641861
DESCRIPTION:2026-05-13TVアニメ『透明男と人間女〜そのうち
 夫婦になるふたり〜』 上巻【Blu-ray】(アニメーション)(
 株)ポニーキャニオン
LOCATION:
END:VEVENT
END:VCALENDAR
