BEGIN:VCALENDAR
VERSION:2.0
PRODID:-//chikkutakku.com//RDFCal 1.0//EN
X-WR-CALDESC:GoogleカレンダーやiCalendar形式情報を共有シェ
 アしましょう。近所のイベントから全国のイベントま
 で今日のイベント検索やスケジュールを決めるならち
 っくたっく
X-WR-CALNAME:ちっくたっく
X-WR-TIMEZONE:UTC
BEGIN:VEVENT
SUMMARY:PVPゲームワールド集会VRC武人集会【ISLAND SURVIVAL - 
 PvP Battle Royal】
DTSTART;VALUE=DATE-TIME:20260425T130000Z
DTEND;VALUE=DATE-TIME:20260425T145900Z
UID:557970754307
DESCRIPTION:【イベント主催者】\n　superRunaRuna\n【イベント
 内容】\n　VRC武人集会は、PvPゲームワールドを主したゲ
 ームワールドベントで通常ルールやスタッフの考えた
 特殊改変ルールで遊んでます、そしてイベント終わり
 には名誉武人というMVPを決めています、是非腕に自信
 がある方は来てみてください\n\n【イベントジャンル】\
 n　定期イベント\n【参加条件（モデル、人数制限など
 ）】\n　\n【参加方法】\n　下記グループにjoin後groupイ
 ンスタンスにjoin\nグループURL\nhttps://vrc.group/BUZIN.6182\n\n
 【備考】\n　https://x.com/runa_super/status/2046151112299020363
LOCATION:
END:VEVENT
END:VCALENDAR
