BEGIN:VCALENDAR
VERSION:2.0
PRODID:-//chikkutakku.com//RDFCal 1.0//EN
X-WR-CALDESC:GoogleカレンダーやiCalendar形式情報を共有シェ
 アしましょう。近所のイベントから全国のイベントま
 で今日のイベント検索やスケジュールを決めるならち
 っくたっく
X-WR-CALNAME:ちっくたっく
X-WR-TIMEZONE:UTC
BEGIN:VEVENT
SUMMARY:神の雫 #3 「遺言状はかく語りき」
DTSTART;VALUE=DATE-TIME:20260424T143000Z
DTEND;VALUE=DATE-TIME:20260424T150000Z
UID:558996156598
DESCRIPTION:3 / 遺言状はかく語りき / 
LOCATION:TOKYO MX
END:VEVENT
END:VCALENDAR
