BEGIN:VCALENDAR
VERSION:2.0
PRODID:-//chikkutakku.com//RDFCal 1.0//EN
X-WR-CALDESC:GoogleカレンダーやiCalendar形式情報を共有シェ
 アしましょう。近所のイベントから全国のイベントま
 で今日のイベント検索やスケジュールを決めるならち
 っくたっく
X-WR-CALNAME:ちっくたっく
X-WR-TIMEZONE:UTC
BEGIN:VEVENT
SUMMARY:大野公民館運営委員会議 令和8年度第1回
DTSTART;VALUE=DATE-TIME:20260424T100000Z
DTEND;VALUE=DATE-TIME:20260424T120000Z
UID:564657038428
DESCRIPTION:大野公民館運営委員会議 令和8年度第1回
LOCATION:大野公民館　A会議室
END:VEVENT
END:VCALENDAR
