BEGIN:VCALENDAR
VERSION:2.0
PRODID:-//chikkutakku.com//RDFCal 1.0//EN
X-WR-CALDESC:GoogleカレンダーやiCalendar形式情報を共有シェ
 アしましょう。近所のイベントから全国のイベントま
 で今日のイベント検索やスケジュールを決めるならち
 っくたっく
X-WR-CALNAME:ちっくたっく
X-WR-TIMEZONE:UTC
BEGIN:VEVENT
SUMMARY:異形頭集会
DTSTART;VALUE=DATE-TIME:20260421T130000Z
DTEND;VALUE=DATE-TIME:20260421T140000Z
UID:571680767178
DESCRIPTION:【イベント主催者】\n　kiibai\n【イベント内容
 】\n　異形頭と異形頭が好きな一般の方、双方が来れる
 集会\n【イベントジャンル】\n　アバター試着会\, 改変
 アバター交流会\, その他交流会\, 初心者向けイベント\,
  定期イベント\n【参加条件（モデル、人数制限など）
 】\n　当日は異形頭を持ってない方も持っている方もど
 なたでも来れます。\n【参加方法】\n　グループ＋\n【
 備考】\n　異形頭集会では売っている異形頭の頭やサン
 プルアバターの展示やイベント様のポスターなど沢山
 おいております。\n異形頭にご興味がある方は是非どな
 たでもいらしてください。\nhttps://x.com/igyoutousyuukai\nhttps
 ://vrc.group/IGYOU.2268\n
LOCATION:
END:VEVENT
END:VCALENDAR
