BEGIN:VCALENDAR
VERSION:2.0
PRODID:-//chikkutakku.com//RDFCal 1.0//EN
X-WR-CALDESC:GoogleカレンダーやiCalendar形式情報を共有シェ
 アしましょう。近所のイベントから全国のイベントま
 で今日のイベント検索やスケジュールを決めるならち
 っくたっく
X-WR-CALNAME:ちっくたっく
X-WR-TIMEZONE:UTC
BEGIN:VEVENT
SUMMARY:Wishing 4 スペシャルバンド
DTSTART;VALUE=DATE:20260428
DTEND;VALUE=DATE:20260429
UID:573151606679
DESCRIPTION:Wishing 4 スペシャルバンド\n♪ビートルズ\n永沼
 忠明　小沢勝巳\n城間正博　土屋剛\nTAG       \nopen18:30 sta
 rt19:30\nMC4\,500円(税別+2オーダー)
LOCATION:
END:VEVENT
END:VCALENDAR
