BEGIN:VCALENDAR
VERSION:2.0
PRODID:-//chikkutakku.com//RDFCal 1.0//EN
X-WR-CALDESC:GoogleカレンダーやiCalendar形式情報を共有シェ
 アしましょう。近所のイベントから全国のイベントま
 で今日のイベント検索やスケジュールを決めるならち
 っくたっく
X-WR-CALNAME:ちっくたっく
X-WR-TIMEZONE:UTC
BEGIN:VEVENT
SUMMARY:Kids Night Out (TDA)
DTSTART;VALUE=DATE-TIME:20260515T213000Z
DTEND;VALUE=DATE-TIME:20260516T000000Z
UID:575437231624
DESCRIPTION:Kids Night Out (TDA)
LOCATION:The Dance Academy of Siagel Productions\, 94 Rowe St\, Auburndale
 \, MA 02466\, USA
END:VEVENT
END:VCALENDAR
