BEGIN:VCALENDAR
VERSION:2.0
PRODID:-//chikkutakku.com//RDFCal 1.0//EN
X-WR-CALDESC:GoogleカレンダーやiCalendar形式情報を共有シェ
 アしましょう。近所のイベントから全国のイベントま
 で今日のイベント検索やスケジュールを決めるならち
 っくたっく
X-WR-CALNAME:ちっくたっく
X-WR-TIMEZONE:UTC
BEGIN:VEVENT
SUMMARY:Instructor Trainers Leadership Committee 
DTSTART;VALUE=DATE-TIME:20260424T173000Z
DTEND;VALUE=DATE-TIME:20260424T183000Z
UID:578768555541
DESCRIPTION:Meeting Notes: https://docs.google.com/document/d/1wbP_Et-o8pb
 QXGhOcyK5wqOGlxYb8-YM0fgecfzdpgM/edit#heading=h.c7zp7ed1o6bz
LOCATION:https://carpentries.zoom.us/my/carpentriesroom2
END:VEVENT
END:VCALENDAR
