BEGIN:VCALENDAR
VERSION:2.0
PRODID:-//chikkutakku.com//RDFCal 1.0//EN
X-WR-CALDESC:GoogleカレンダーやiCalendar形式情報を共有シェ
 アしましょう。近所のイベントから全国のイベントま
 で今日のイベント検索やスケジュールを決めるならち
 っくたっく
X-WR-CALNAME:ちっくたっく
X-WR-TIMEZONE:UTC
BEGIN:VEVENT
SUMMARY:P上尾練習（上尾市文化センター101）
DTSTART;VALUE=DATE-TIME:20260503T041000Z
DTEND;VALUE=DATE-TIME:20260503T055000Z
UID:578879455116
DESCRIPTION:P上尾練習（上尾市文化センター101）
LOCATION:上尾市文化センター\, 日本、〒362-0017 埼玉県上
 尾市二ツ宮７５０
END:VEVENT
END:VCALENDAR
