BEGIN:VCALENDAR
VERSION:2.0
PRODID:-//chikkutakku.com//RDFCal 1.0//EN
X-WR-CALDESC:GoogleカレンダーやiCalendar形式情報を共有シェ
 アしましょう。近所のイベントから全国のイベントま
 で今日のイベント検索やスケジュールを決めるならち
 っくたっく
X-WR-CALNAME:ちっくたっく
X-WR-TIMEZONE:UTC
BEGIN:VEVENT
SUMMARY:地下鉄側道にある、ふらっとBAR
DTSTART;VALUE=DATE-TIME:20260421T130000Z
DTEND;VALUE=DATE-TIME:20260421T140000Z
UID:579331606609
DESCRIPTION:【イベント主催者】\n　ふらふらだよん\n【イ
 ベント内容】\n　地下鉄側道にこっそりと経営している
 BAR․․․あなたもふらりと寄っていきませんか․․․
 ？ まったりと雑談しながらお酒を飲んでいくグループ
 となります！気軽にお越しくださいませ․․․\n【イベ
 ントジャンル】\n　VR飲み会\, 店舗系イベント\, 初心者
 向けイベント\, 定期イベント\n【参加条件（モデル、人
 数制限など）】\n　重たいアバター、視界ジャック、大
 きいアバター、音のなるギミックは使わないでくださ
 い\n【参加方法】\n　グールプ参加のちジョインしてく
 ださい。\n【備考】\n　公式X\nhttps://x.com/flattBAR_VRC07\nグ
 ループ番号\nFLABAR.2356
LOCATION:
END:VEVENT
END:VCALENDAR
