BEGIN:VCALENDAR
VERSION:2.0
PRODID:-//chikkutakku.com//RDFCal 1.0//EN
X-WR-CALDESC:GoogleカレンダーやiCalendar形式情報を共有シェ
 アしましょう。近所のイベントから全国のイベントま
 で今日のイベント検索やスケジュールを決めるならち
 っくたっく
X-WR-CALNAME:ちっくたっく
X-WR-TIMEZONE:UTC
BEGIN:VEVENT
SUMMARY:ประชุมระบบรายงานตัวบัณ
 ฑิตร่วมกับคณะ/วิทยาลัย
DTSTART;VALUE=DATE-TIME:20260422T030000Z
DTEND;VALUE=DATE-TIME:20260422T050000Z
UID:580260195167
DESCRIPTION:通过 Google Meet 加入：https://meet.google.com/bwn-rfgf-c
 fk\n或者拨打以下号码：(TH) +66 2 844 9331 PIN 码： 935160634818
 5#\n更多电话号码: https://tel.meet/bwn-rfgf-cfk?pin=9351606348185&hs
 =7\n\n如需详细了解 Google Meet，请访问：https://support.google.
 com/a/users/answer/9282720
LOCATION:B412
END:VEVENT
END:VCALENDAR
