BEGIN:VCALENDAR
VERSION:2.0
PRODID:-//chikkutakku.com//RDFCal 1.0//EN
X-WR-CALDESC:GoogleカレンダーやiCalendar形式情報を共有シェ
 アしましょう。近所のイベントから全国のイベントま
 で今日のイベント検索やスケジュールを決めるならち
 っくたっく
X-WR-CALNAME:ちっくたっく
X-WR-TIMEZONE:UTC
BEGIN:VEVENT
SUMMARY:（仮予約）12:00-14:00 瞑想舞（自主練）
DTSTART;VALUE=DATE-TIME:20260424T030000Z
DTEND;VALUE=DATE-TIME:20260424T050000Z
UID:583512098901
DESCRIPTION:（仮予約）12:00-14:00 瞑想舞（自主練）
LOCATION:
END:VEVENT
END:VCALENDAR
