BEGIN:VCALENDAR
VERSION:2.0
PRODID:-//chikkutakku.com//RDFCal 1.0//EN
X-WR-CALDESC:GoogleカレンダーやiCalendar形式情報を共有シェ
 アしましょう。近所のイベントから全国のイベントま
 で今日のイベント検索やスケジュールを決めるならち
 っくたっく
X-WR-CALNAME:ちっくたっく
X-WR-TIMEZONE:UTC
BEGIN:VEVENT
SUMMARY:【購入特典】『お前ら早く結婚しろよっ！３　そ
 う言われてる女子と結婚するまで【電子特典付き】』BO
 OK☆WALKER限定書き下ろしショートストーリー
DTSTART;VALUE=DATE:20260423
DTEND;VALUE=DATE:20260424
UID:601956717690
DESCRIPTION:2026-04-24【購入特典】『お前ら早く結婚しろよ
 っ！３　そう言われてる女子と結婚するまで【電子特
 典付き】』BOOK☆WALKER限定書き下ろしショートストーリ
 ー優汰/まるろKADOKAWA
LOCATION:
END:VEVENT
END:VCALENDAR
