BEGIN:VCALENDAR
VERSION:2.0
PRODID:-//chikkutakku.com//RDFCal 1.0//EN
X-WR-CALDESC:GoogleカレンダーやiCalendar形式情報を共有シェ
 アしましょう。近所のイベントから全国のイベントま
 で今日のイベント検索やスケジュールを決めるならち
 っくたっく
X-WR-CALNAME:ちっくたっく
X-WR-TIMEZONE:UTC
BEGIN:VEVENT
SUMMARY:ゲーム好きが集まる雑談イベント「喫茶ねこのす
 」 Group+[NKNS.9615]にjoin
DTSTART;VALUE=DATE-TIME:20260424T130000Z
DTEND;VALUE=DATE-TIME:20260424T140000Z
UID:603839264360
DESCRIPTION:【イベント主催者】\n　早乙女ミシロ\n【イベ
 ント内容】\n　ゲーム喫茶ねこのすはゲーム好きの集ま
 る雑談イベント、ゲーム好きが集まってダラダラとお
 話できる空間になります。\n今回のお題は「レトロゲー
 ム」になります。\nゲームのお話をしたい、仲間や情報
 探しをしたい方、是非ともいかがでしょうか？\n\n【イ
 ベントジャンル】\n　その他交流会\, 店舗系イベント\, 
 定期イベント\n【参加条件（モデル、人数制限など）】
 \n　過度に負荷のかかるアバター、パーティクルの使用
 、音が出るアバターの使用の禁止。\n【参加方法】\n　G
 roup+[NKNS.9615]にjoin\n【備考】\n　Twitterはこちらから: https
 ://twitter.com/cafe_nekonosu/status/1681310504936165383
LOCATION:
END:VEVENT
END:VCALENDAR
