BEGIN:VCALENDAR
VERSION:2.0
PRODID:-//chikkutakku.com//RDFCal 1.0//EN
X-WR-CALDESC:GoogleカレンダーやiCalendar形式情報を共有シェ
 アしましょう。近所のイベントから全国のイベントま
 で今日のイベント検索やスケジュールを決めるならち
 っくたっく
X-WR-CALNAME:ちっくたっく
X-WR-TIMEZONE:UTC
BEGIN:VEVENT
SUMMARY:四度目は嫌な死属性魔術師（16）
DTSTART;VALUE=DATE:20260514
DTEND;VALUE=DATE:20260515
UID:605626159327
DESCRIPTION:2026-05-15四度目は嫌な死属性魔術師（16）デン
 スケ/ばん！一二三書房
LOCATION:
END:VEVENT
END:VCALENDAR
