BEGIN:VCALENDAR
VERSION:2.0
PRODID:-//chikkutakku.com//RDFCal 1.0//EN
X-WR-CALDESC:GoogleカレンダーやiCalendar形式情報を共有シェ
 アしましょう。近所のイベントから全国のイベントま
 で今日のイベント検索やスケジュールを決めるならち
 っくたっく
X-WR-CALNAME:ちっくたっく
X-WR-TIMEZONE:UTC
BEGIN:VEVENT
SUMMARY:畢業班家長座談會
DTSTART;VALUE=DATE:20260505
DTEND;VALUE=DATE:20260506
UID:609028384348
DESCRIPTION:畢業班家長座談會
LOCATION:
END:VEVENT
END:VCALENDAR
