BEGIN:VCALENDAR
VERSION:2.0
PRODID:-//chikkutakku.com//RDFCal 1.0//EN
X-WR-CALDESC:GoogleカレンダーやiCalendar形式情報を共有シェ
 アしましょう。近所のイベントから全国のイベントま
 で今日のイベント検索やスケジュールを決めるならち
 っくたっく
X-WR-CALNAME:ちっくたっく
X-WR-TIMEZONE:UTC
BEGIN:VEVENT
SUMMARY:離縁を申し出たら溺愛されるようになりました!? 
 〜将軍閣下は年下妻にご執心〜 2
DTSTART;VALUE=DATE:20260519
DTEND;VALUE=DATE:20260520
UID:613203142050
DESCRIPTION:2026-05-20離縁を申し出たら溺愛されるようにな
 りました!? 〜将軍閣下は年下妻にご執心〜 2DAIMARU 三世/
 姫 沙羅リブレ
LOCATION:
END:VEVENT
END:VCALENDAR
