BEGIN:VCALENDAR
VERSION:2.0
PRODID:-//chikkutakku.com//RDFCal 1.0//EN
X-WR-CALDESC:GoogleカレンダーやiCalendar形式情報を共有シェ
 アしましょう。近所のイベントから全国のイベントま
 で今日のイベント検索やスケジュールを決めるならち
 っくたっく
X-WR-CALNAME:ちっくたっく
X-WR-TIMEZONE:UTC
BEGIN:VEVENT
SUMMARY:堺泉北:キックエクササイズクラス
DTSTART;VALUE=DATE-TIME:20260513T110000Z
DTEND;VALUE=DATE-TIME:20260513T121000Z
UID:619200185009
DESCRIPTION:堺泉北:キックエクササイズクラス
LOCATION:フィリアボクシングジム\, 日本、〒590-0106 大阪
 府堺市南区南区豊田４６１−１
END:VEVENT
END:VCALENDAR
