BEGIN:VCALENDAR
VERSION:2.0
PRODID:-//chikkutakku.com//RDFCal 1.0//EN
X-WR-CALDESC:GoogleカレンダーやiCalendar形式情報を共有シェ
 アしましょう。近所のイベントから全国のイベントま
 で今日のイベント検索やスケジュールを決めるならち
 っくたっく
X-WR-CALNAME:ちっくたっく
X-WR-TIMEZONE:UTC
BEGIN:VEVENT
SUMMARY:นพ.สสจ.เป็นประธานการประ
 ชุมคณะอนุกรรมการสถานพยาบ
 าลประจำจังหวัดเพชรบูรณ์
DTSTART;VALUE=DATE-TIME:20260423T063000Z
DTEND;VALUE=DATE-TIME:20260423T093000Z
UID:620981708137
DESCRIPTION:นพ.สสจ.เป็นประธานการปร
 ะชุมคณะอนุกรรมการสถานพยา
 บาลประจำจังหวัดเพชรบูรณ์
LOCATION:ห้องสุขสันต์ ชั้น2 อาคา
 รเมืองราด สสจ.เพชรบูรณ์\nถน
 นนิกรบำรุง\nจ.เพชรบูรณ์\nเพช
 รบูรณ์ 67000\nประเทศไทย
END:VEVENT
END:VCALENDAR
