BEGIN:VCALENDAR
VERSION:2.0
PRODID:-//chikkutakku.com//RDFCal 1.0//EN
X-WR-CALDESC:GoogleカレンダーやiCalendar形式情報を共有シェ
 アしましょう。近所のイベントから全国のイベントま
 で今日のイベント検索やスケジュールを決めるならち
 っくたっく
X-WR-CALNAME:ちっくたっく
X-WR-TIMEZONE:UTC
BEGIN:VEVENT
SUMMARY:【異界を旅するスナック】 駄菓子屋妖狐 第2部【
 Group＋で開催】
DTSTART;VALUE=DATE-TIME:20260425T151000Z
DTEND;VALUE=DATE-TIME:20260425T161000Z
UID:621779012178
DESCRIPTION:【イベント主催者】\n　mireha_VT\n【イベント内
 容】\n　　異世界を旅する指名制スナック。\n　世間話
 をしたいお客様や、ロールプレイをしたいお客様に、\n
 　それぞれ対応可能な狐のキャストがいる接客イベン
 トです。\n　ロケーションが季節ごとに変化し、様々な
 土地で営業するのも特徴です。\n【イベントジャンル】
 \n　店舗系イベント\, ロールプレイ\, 定期イベント\n【
 参加条件（モデル、人数制限など）】\n　　　入場の際
 のお願い\n　　お持ちの二足歩行アバターの中で、\n　
 　ダウンロードサイズが50MB以内のもの着用でお願い致
 します。\n\n【参加方法】\n　　Group加入後、Join\n　もし
 くはGroupに加入済みの身近なフレンドさんへJoin\n\n【備
 考】\n　　詳細は店舗公式X(@vrc_youfo）にて情報発信中！
 フォローよろしくお願いします！\n  ▼お店のグループ
 加入はこちらから\n  http://vrc.group/DYFVRC.8051
LOCATION:
END:VEVENT
END:VCALENDAR
