BEGIN:VCALENDAR
VERSION:2.0
PRODID:-//chikkutakku.com//RDFCal 1.0//EN
X-WR-CALDESC:GoogleカレンダーやiCalendar形式情報を共有シェ
 アしましょう。近所のイベントから全国のイベントま
 で今日のイベント検索やスケジュールを決めるならち
 っくたっく
X-WR-CALNAME:ちっくたっく
X-WR-TIMEZONE:UTC
BEGIN:VEVENT
SUMMARY:【初心者様歓迎】Bar Lupinus
DTSTART;VALUE=DATE-TIME:20260425T131500Z
DTEND;VALUE=DATE-TIME:20260425T141500Z
UID:622039355636
DESCRIPTION:【イベント主催者】\n　chikatetu\n【イベント内
 容】\n　『癒しを求める貴方だけに現れるBar』\nBarLupinus
 はBar系RPイベントです。\n様々な事が起こるこの現代社
 会、何かと相談したいこと、愚痴をこぼしたいことな
 どあると思います。\nそんな方に向け、大人の雰囲気の
 Barでぜひ喋ってみませんか？\n大人なお兄さん、お姉さ
 んに悩みを聞いてもらったり全肯定してもらおうとい
 うイベントになっております。\nもちろん悩みがない方
 でもただ喋ってみたい！という方も大歓迎でございま
 す。\n【イベントジャンル】\n　店舗系イベント\, ロー
 ルプレイ\n【参加条件（モデル、人数制限など）】\n　
 以下の行為をご遠慮いただいております。\n\n・重すぎ
 る、センシティブなアバターの使用\n\n・キャストへの
 フレンド申請、ストーカー行為\n\n・許可なしの配信、
 録音、録画、画面共有\n\nその他運営が迷惑と判断した
 行為はキック、ブロックの措置を取らせていただきま
 すのでご了承ください。\n【参加方法】\n　グループイ
 ンスタンスにジョイン\nグループ→https://vrc.group/LUPIA.937
 5\n【備考】\n　公式X→https://x.com/BarLupinus_VRC\n公式VRCグ
 ループ→https://vrc.group/LUPIA.9375
LOCATION:
END:VEVENT
END:VCALENDAR
