BEGIN:VCALENDAR
VERSION:2.0
PRODID:-//chikkutakku.com//RDFCal 1.0//EN
X-WR-CALDESC:GoogleカレンダーやiCalendar形式情報を共有シェ
 アしましょう。近所のイベントから全国のイベントま
 で今日のイベント検索やスケジュールを決めるならち
 っくたっく
X-WR-CALNAME:ちっくたっく
X-WR-TIMEZONE:UTC
BEGIN:VEVENT
SUMMARY:横山実郁＠古町どんどん2026春　夜のどんどん
DTSTART;VALUE=DATE-TIME:20260509T083000Z
DTEND;VALUE=DATE-TIME:20260509T090000Z
UID:626948501790
DESCRIPTION:05/09（土）\n\n【５番町】\n12:30-12:45 古町芸妓\n1
 4:00-14:30 courtesea\n15:00-15:30 Mondeo\n16:00-16:30 東京力車\n\n【
 ７番町】\n10:30-11:00 Mondeo\n12:00-12:15 古町芸妓\n13:30-14:00 
 東京力車\n16:30-17:00 courtesea\n17:30-18:30 夜のどんどん（横
 山実郁）
LOCATION:７番町\, 日本、〒951-8063 新潟県新潟市中央区古
 町通７番町
END:VEVENT
END:VCALENDAR
