BEGIN:VCALENDAR
VERSION:2.0
PRODID:-//chikkutakku.com//RDFCal 1.0//EN
X-WR-CALDESC:GoogleカレンダーやiCalendar形式情報を共有シェ
 アしましょう。近所のイベントから全国のイベントま
 で今日のイベント検索やスケジュールを決めるならち
 っくたっく
X-WR-CALNAME:ちっくたっく
X-WR-TIMEZONE:UTC
BEGIN:VEVENT
SUMMARY:日本全国消費者物価指数（CPI）（生鮮食料品除く
 コア）（前年比）
DTSTART;VALUE=DATE-TIME:20260423T233000Z
DTEND;VALUE=DATE-TIME:20260424T003000Z
UID:638868325951
DESCRIPTION:経済指標カレンダー\nhttps://mst.monex.co.jp/pc/servle
 t/ITS/report/EconomyIndexCalendar?utm_source=MONEX-calendar&utm_medium=cal
 endar-schedule&utm_campaign=jp
LOCATION:
END:VEVENT
END:VCALENDAR
