BEGIN:VCALENDAR
VERSION:2.0
PRODID:-//chikkutakku.com//RDFCal 1.0//EN
X-WR-CALDESC:GoogleカレンダーやiCalendar形式情報を共有シェ
 アしましょう。近所のイベントから全国のイベントま
 で今日のイベント検索やスケジュールを決めるならち
 っくたっく
X-WR-CALNAME:ちっくたっく
X-WR-TIMEZONE:UTC
BEGIN:VEVENT
SUMMARY:M.A.N.O. Milwaukee Area Nerf Outing
DTSTART;VALUE=DATE-TIME:20260516T170000Z
DTEND;VALUE=DATE-TIME:20260516T210000Z
UID:638871216575
DESCRIPTION:M.A.N.O. Milwaukee Area Nerf Outing
LOCATION:10500 W Wisconsin Ave\, Wauwatosa\, WI 53226\, USA
END:VEVENT
END:VCALENDAR
