BEGIN:VCALENDAR
VERSION:2.0
PRODID:-//chikkutakku.com//RDFCal 1.0//EN
X-WR-CALDESC:GoogleカレンダーやiCalendar形式情報を共有シェ
 アしましょう。近所のイベントから全国のイベントま
 で今日のイベント検索やスケジュールを決めるならち
 っくたっく
X-WR-CALNAME:ちっくたっく
X-WR-TIMEZONE:UTC
BEGIN:VEVENT
SUMMARY:隻眼・隻腕・隻脚の魔術師@COMIC 第6巻～森の小屋
 に籠っていたら早2000年。気づけば魔神と呼ばれていた
 。僕はただ魔術の探求をしたいだけなのに～
DTSTART;VALUE=DATE:20260514
DTEND;VALUE=DATE:20260515
UID:640503421720
DESCRIPTION:2026-05-15隻眼・隻腕・隻脚の魔術師@COMIC 第6巻
 ～森の小屋に籠っていたら早2000年。気づけば魔神と呼
 ばれていた。僕はただ魔術の探求をしたいだけなのに
 ～しばの番茶/すずすけ/矢上裕/すみ兵TOブックス
LOCATION:
END:VEVENT
END:VCALENDAR
