BEGIN:VCALENDAR
VERSION:2.0
PRODID:-//chikkutakku.com//RDFCal 1.0//EN
X-WR-CALDESC:GoogleカレンダーやiCalendar形式情報を共有シェ
 アしましょう。近所のイベントから全国のイベントま
 で今日のイベント検索やスケジュールを決めるならち
 っくたっく
X-WR-CALNAME:ちっくたっく
X-WR-TIMEZONE:UTC
BEGIN:VEVENT
SUMMARY:Primary Assembly - POSTPONED
DTSTART;VALUE=DATE:20260423
DTEND;VALUE=DATE:20260424
UID:646458878956
DESCRIPTION:The Assembly will be held in St Brigids Hall\, commencing at 
 2.05pm. Entry to the Hall will be via the driveway gates\, which will be 
 opened for entry at 1:50pm. Year 6 will be presenting at the assembly. 
  
LOCATION:
END:VEVENT
END:VCALENDAR
