BEGIN:VCALENDAR
VERSION:2.0
PRODID:-//chikkutakku.com//RDFCal 1.0//EN
X-WR-CALDESC:GoogleカレンダーやiCalendar形式情報を共有シェ
 アしましょう。近所のイベントから全国のイベントま
 で今日のイベント検索やスケジュールを決めるならち
 っくたっく
X-WR-CALNAME:ちっくたっく
X-WR-TIMEZONE:UTC
BEGIN:VEVENT
SUMMARY:山本精一の”アブストラクト・レゲエ・ナイト”
DTSTART;VALUE=DATE:20260506
DTEND;VALUE=DATE:20260507
UID:646688546897
DESCRIPTION:open 19:30 / start 20:00\n山本精一\n()\n投げ銭制(別
 途チャージ500円+ドリンクオーダー)\n()\n予約方法\n・予
 約受付メールアドレス:barisshee@keh.biglobe.ne.jp\nタイトル
 を「5/7予約」とし、\n上記アドレスに氏名(フルネーム)
 と人数(最大2名)と電話番号をお知らせください。整理
 番号を返信いたします。\n予約は5月6日24時で締め切り
 ます。\nそれ以前に定員に達した場合はその時点で予約
 終了となります。\n()\nメールにてご予約、整理番号順
 の入場となります。\n携帯からメールされる方は、PCか
 らのメールを受け取れるようにしておいてください。\n
 ()\nなお事前連絡無しの無断のキャンセルの場合、\n今
 後の予約ができなくなる可能性もありますので、\n充分
 ご承知おきください。\n\n【関連/参考ページ】\nhttp://www
 .bloc.jp/barisshee/ （千駄木Bar Isshee）
LOCATION:千駄木Bar Isshee【関東】
END:VEVENT
END:VCALENDAR
