BEGIN:VCALENDAR
VERSION:2.0
PRODID:-//chikkutakku.com//RDFCal 1.0//EN
X-WR-CALDESC:GoogleカレンダーやiCalendar形式情報を共有シェ
 アしましょう。近所のイベントから全国のイベントま
 で今日のイベント検索やスケジュールを決めるならち
 っくたっく
X-WR-CALNAME:ちっくたっく
X-WR-TIMEZONE:UTC
BEGIN:VEVENT
SUMMARY:Harbour Community Church
DTSTART;VALUE=DATE-TIME:20260510T223000Z
DTEND;VALUE=DATE-TIME:20260511T003000Z
UID:648978213946
DESCRIPTION:Harbour Community Church
LOCATION:
END:VEVENT
END:VCALENDAR
