BEGIN:VCALENDAR
VERSION:2.0
PRODID:-//chikkutakku.com//RDFCal 1.0//EN
X-WR-CALDESC:GoogleカレンダーやiCalendar形式情報を共有シェ
 アしましょう。近所のイベントから全国のイベントま
 で今日のイベント検索やスケジュールを決めるならち
 っくたっく
X-WR-CALNAME:ちっくたっく
X-WR-TIMEZONE:UTC
BEGIN:VEVENT
SUMMARY:【Android 対応】【サイコロを振るBar】~Only Dice Roll~
DTSTART;VALUE=DATE-TIME:20260422T100000Z
DTEND;VALUE=DATE-TIME:20260422T110000Z
UID:653155528311
DESCRIPTION:【イベント主催者】\n　maguro_\n【イベント内容
 】\n　サイコロを使ったボードゲームで遊んだり、話題
 サイコロを使って雑談したりするBarイベントです。遊
 びたい方、雑談したい方、どなたでも大歓迎です。皆
 様の参加を心よりお待ちしております！\n【イベントジ
 ャンル】\n　その他交流会\n【参加条件（モデル、人数
 制限など）】\n　特になし。\n【参加方法】\n　maguro_ に
 フレンド申請後Join(入る)、又はGroup(YAHT.9531)に加入してJ
 oin(入る)\n【備考】\n　
LOCATION:
END:VEVENT
END:VCALENDAR
