BEGIN:VCALENDAR
VERSION:2.0
PRODID:-//chikkutakku.com//RDFCal 1.0//EN
X-WR-CALDESC:GoogleカレンダーやiCalendar形式情報を共有シェ
 アしましょう。近所のイベントから全国のイベントま
 で今日のイベント検索やスケジュールを決めるならち
 っくたっく
X-WR-CALNAME:ちっくたっく
X-WR-TIMEZONE:UTC
BEGIN:VEVENT
SUMMARY:配信カフェ【～StreamerCafe BLOOM～】
DTSTART;VALUE=DATE-TIME:20260424T150000Z
DTEND;VALUE=DATE-TIME:20260424T160000Z
UID:657571308182
DESCRIPTION:【イベント主催者】\n　Burauberuku\n【イベント
 内容】\n　VTuberのオーナーが営む夜のカフェ【StreamerCafe
  BLOOM】\n「夜のカフェでまったりしたい」——そんな気
 分のあなたへ\nどこか懐かしくて落ち着いた店内で、配
 信者キャストとのちょっとしたおしゃべりも楽しめま
 す。\n当イベントは一部区画の配信を予定していますの
 で来店の際は配信に映ってもいい姿でお越しください.\
 n音声当は配信には乗りません。\n【イベントジャンル
 】\n　VR飲み会\, 店舗系イベント\, 定期イベント\n【参
 加条件（モデル、人数制限など）】\n　誰でも入店可能
 ！\n※当イベントは一部席を配信していますので来店の
 際は配信に映ってもいい姿でお越しください\n【参加方
 法】\n　インスタンスはGroup+\nBLOOM.1446に加入しjoin、ま
 たは【Burauberuku】にjoin\n【備考】\n　
LOCATION:
END:VEVENT
END:VCALENDAR
