BEGIN:VCALENDAR
VERSION:2.0
PRODID:-//chikkutakku.com//RDFCal 1.0//EN
X-WR-CALDESC:GoogleカレンダーやiCalendar形式情報を共有シェ
 アしましょう。近所のイベントから全国のイベントま
 で今日のイベント検索やスケジュールを決めるならち
 っくたっく
X-WR-CALNAME:ちっくたっく
X-WR-TIMEZONE:UTC
BEGIN:VEVENT
SUMMARY:ウルトラマン80 #14 「テレポーテーション！パリ
 から来た男」
DTSTART;VALUE=DATE-TIME:20260421T093000Z
DTEND;VALUE=DATE-TIME:20260421T100000Z
UID:659960186805
DESCRIPTION:14 / テレポーテーション！パリから来た男 / 
LOCATION:TOKYO MX
END:VEVENT
END:VCALENDAR
