BEGIN:VCALENDAR
VERSION:2.0
PRODID:-//chikkutakku.com//RDFCal 1.0//EN
X-WR-CALDESC:GoogleカレンダーやiCalendar形式情報を共有シェ
 アしましょう。近所のイベントから全国のイベントま
 で今日のイベント検索やスケジュールを決めるならち
 っくたっく
X-WR-CALNAME:ちっくたっく
X-WR-TIMEZONE:UTC
BEGIN:VEVENT
SUMMARY:もう、苦しまなくていい！ エゴと執着をリセッ
 トする最高の習慣
DTSTART;VALUE=DATE:20260518
DTEND;VALUE=DATE:20260519
UID:660133740280
DESCRIPTION:2026-05-19もう、苦しまなくていい！ エゴと執着
 をリセットする最高の習慣杉崎仁志めでぃあ森
LOCATION:
END:VEVENT
END:VCALENDAR
